BEGIN:VCALENDAR
VERSION:2.0
PRODID:-//TYPO3/NONSGML News system (news)//EN
METHOD:PUBLISH
BEGIN:VTIMEZONE
TZID:Europe/Berlin
BEGIN:DAYLIGHT
TZOFFSETFROM:+0100
DTSTART:19810329T020000
RRULE:FREQ=YEARLY;BYMONTH=3;BYDAY=-1SU
TZNAME:MESZ
TZOFFSETTO:+0200
END:DAYLIGHT
BEGIN:STANDARD
TZOFFSETFROM:+0200
DTSTART:19961027T030000
RRULE:FREQ=YEARLY;BYMONTH=10;BYDAY=-1SU
TZNAME:MEZ
TZOFFSETTO:+0100
END:STANDARD
END:VTIMEZONE
BEGIN:VEVENT
UID:news-7485@geschichte.uni-wuppertal.de
DTSTAMP:20260421T185052Z
DTSTART;TZID=Europe/Berlin:20260506T120000
DTEND;TZID=Europe/Berlin:20260506T140000

SUMMARY:365 Tage Laurentiusstr | IaSuL BrownBag-Lunch | Studierende herzlich eingeladen
DESCRIPTION:
LOCATION:LS.03
ATTACH:http://geschichte.uni-wuppertal.de/fileadmin/_processed_/d/0/csm_IaSuL_BrownBag_Lunch_af86b5b5e0.png

END:VEVENT
END:VCALENDAR
