BEGIN:VCALENDAR
VERSION:2.0
PRODID:-//TYPO3/NONSGML News system (news)//EN
METHOD:PUBLISH
BEGIN:VTIMEZONE
TZID:Europe/Berlin
BEGIN:DAYLIGHT
TZOFFSETFROM:+0100
DTSTART:19810329T020000
RRULE:FREQ=YEARLY;BYMONTH=3;BYDAY=-1SU
TZNAME:MESZ
TZOFFSETTO:+0200
END:DAYLIGHT
BEGIN:STANDARD
TZOFFSETFROM:+0200
DTSTART:19961027T030000
RRULE:FREQ=YEARLY;BYMONTH=10;BYDAY=-1SU
TZNAME:MEZ
TZOFFSETTO:+0100
END:STANDARD
END:VTIMEZONE
BEGIN:VEVENT
UID:news-7475@geschichte.uni-wuppertal.de
DTSTAMP:20260417T113410Z
DTSTART;TZID=Europe/Berlin:20260428T150000
DTEND;TZID=Europe/Berlin:20260428T180000

SUMMARY:Absolvent*innenkolloquium der Wissenschafts- und Technikgeschichte
DESCRIPTION:
LOCATION:GSH.06.25
ATTACH:http://geschichte.uni-wuppertal.de/fileadmin/_processed_/5/f/csm_Poster_Absolventenkolloquium_2026__1__a7d37d8801.png

END:VEVENT
END:VCALENDAR
